BEGIN:VCALENDAR
VERSION:2.0
PRODID:spatie/icalendar-generator
DESCRIPTION:Events from Public Health | LMAS District
X-WR-CALDESC:Events from Public Health | LMAS District
REFRESH-INTERVAL;VALUE=DURATION:PT1440M
X-PUBLISHED-TTL:PT1440M
BEGIN:VTIMEZONE
TZID:Etc/GMT+4
BEGIN:STANDARD
DTSTART:20250805T103000Z
TZOFFSETFROM:-0400
TZOFFSETTO:-0400
END:STANDARD
END:VTIMEZONE
BEGIN:VTIMEZONE
TZID:UTC
BEGIN:STANDARD
DTSTART:20250727T135250Z
TZOFFSETFROM:+0000
TZOFFSETTO:+0000
END:STANDARD
END:VTIMEZONE
BEGIN:VEVENT
UID:167-7
DTSTAMP:20260423T135250Z
SUMMARY:Trail Town Bike Fest
LOCATION:
ORGANIZER;CN=Natasha King:MAILTO:nking@lmasdhd.org
DTSTART;TZID=Etc/GMT+4:20260502T103000
DTEND;TZID=Etc/GMT+4:20260502T123000
X-ALT-DESC;FMTTYPE=TEXT/HTML:Ride Smart\, Ride Safe! 🚲 Join us for a fun
  and informative community event focused on keeping Newberry safe\, active
 \, and connected! 👨‍👩‍👧‍👦 What to Expect: • Learn esse
 ntial bike safety tips • Provide public input on the proposed Safe Route
 s to School Project • Explore the LMAS Hidden in Plain Sight Tobacco Edu
 cation Exhibit&amp;hellip\;
CATEGORIES:General
URL;VALUE=URI:https://www.lmasdhd.org/mc-events/trail-town-bike-fest/
METHOD:PUBLISH
END:VEVENT
END:VCALENDAR